BEGIN:VCALENDAR
VERSION:2.0
PRODID:-//wp-events-plugin.com//7.2.3.1//EN
TZID:America/Sao_Paulo
X-WR-TIMEZONE:America/Sao_Paulo
BEGIN:VEVENT
UID:23@anderuvius.com
DTSTART;TZID=America/Sao_Paulo:20260314T150000
DTEND;TZID=America/Sao_Paulo:20260314T230000
DTSTAMP:20260222T205857Z
URL:https://anderuvius.com/events/%e2%98%98%ef%b8%8f-st-patricks-day-rock-
 of-ages-2026/
SUMMARY:☘️ St. Patrick's Day: Rock of Ages 2026
DESCRIPTION:O Rock of Ages já é tradição no nosso calendário e\, em 20
 26\, a edição de St. Patrick’s promete ser uma das maiores. Estaremos 
 presentes na Villa Pagliato para participar dessa Jam histórica\, onde ma
 is de 60 músicos se alternam no palco para reviver os grandes clássicos 
 do Rock.\nÉ aquele evento para passar a tarde com chopp verde\, rever a g
 alera e curtir o som em um ambiente completo. Confira os pontos chave para
  se programar:\n\n\n 	Data e Hora: 14 de março\, a partir das 15h.\n 	Loc
 al: Villa Pagliato (R. Antônio Aparecido Ferraz\, 1111).\n 	Entrada: R$ 1
 5\,00 + 1kg de alimento não perecível ou 1l de leite.\n 	Solidariedade: 
 Arrecadações destinadas ao Lar Escola Monteiro Lobato.\n 	Experiência: 
 Flash Tattoo\, Discos de Vinil\, Little Paul Shop e Estacionamento no loca
 l.\n 	Gastronomia: Operação dos bares Little Paul\, Wave Beach Bar\, Cas
 inha 747\, Depois Bar e Bardolino.\n\nNos vemos na frente do palco para ma
 is uma jornada de Rock n' Roll.
ATTACH;FMTTYPE=image/jpeg:https://anderuvius.com/wp-content/uploads/2026/0
 2/roa_st_patricks_day_2026.jpg
CATEGORIES:Show
LOCATION:Villa Pagliato\, R. Antônio Aparecido Ferraz\, 1111 - Parque Sant
 a Isabel \, Sorocaba\, SP\, 18052-280\, Brasil
GEO:-23.538332;-47.497841
X-APPLE-STRUCTURED-LOCATION;VALUE=URI;X-ADDRESS=R. Antônio Aparecido Ferra
 z\, 1111 - Parque Santa Isabel \, Sorocaba\, SP\, 18052-280\, Brasil;X-APP
 LE-RADIUS=100;X-TITLE=Villa Pagliato:geo:-23.538332,-47.497841
END:VEVENT
BEGIN:VTIMEZONE
TZID:America/Sao_Paulo
X-LIC-LOCATION:America/Sao_Paulo
BEGIN:STANDARD
DTSTART:20250314T150000
TZOFFSETFROM:-0300
TZOFFSETTO:-0300
TZNAME:-03
END:STANDARD
END:VTIMEZONE
END:VCALENDAR