BEGIN:VCALENDAR
VERSION:2.0
PRODID:-//wp-events-plugin.com//7.2.3.1//EN
TZID:America/Sao_Paulo
X-WR-TIMEZONE:America/Sao_Paulo
BEGIN:VEVENT
UID:17@anderuvius.com
DTSTART;TZID=America/Sao_Paulo:20240906T100000
DTEND;TZID=America/Sao_Paulo:20240908T220000
DTSTAMP:20240825T225201Z
URL:https://anderuvius.com/events/5a-sorocaba-tattoo-expo/
SUMMARY:5ª SOROCABA TATTOO EXPO
DESCRIPTION:No ano do Dragão\, Sorocaba é invadida novamente pelo mundo d
 a tatuagem! Vem aí\, nos dias 06\, 07 e 08 de Setembro de 2024 a 5° Edi
 ção da SOROCABA TATTOO EXPO\, a maior e mais tradicional convenção de 
 tatuagem do interior paulista.\n\nO SHOW DA ANDERUVIUS ACONTECERÁ NO SÁB
 ADO\, DIA 07 DE SETEMBRO\, ÀS 19H NO PALCO EXTERNO.\n\nDatas: 06\, 07 e 0
 8 de Setembro de 2024.\nHorário: 10h às 22h\nLocal: Floresta Convençõe
 s e Eventos\nEndereço: Av. Três de Março\, 2566\, Alto da Boa Vista - S
 orocaba/SP 18087-180\n\nIngressos: Diretamente com a banda pelo Instagram:
  @anderuvius
ATTACH;FMTTYPE=image/jpeg:https://anderuvius.com/wp-content/uploads/2024/0
 8/Sorocaba_Tattoo_Expo_2024.jpg
CATEGORIES:Show
LOCATION:Floresta Convenções e Eventos\, Avenida Três de Março\, 2566\,
  Sorocaba\, São Paulo\, 18087-180\, Brasil
GEO:-23.471856;-47.402902
X-APPLE-STRUCTURED-LOCATION;VALUE=URI;X-ADDRESS=Avenida Três de Março\, 2
 566\, Sorocaba\, São Paulo\, 18087-180\, Brasil;X-APPLE-RADIUS=100;X-TITL
 E=Floresta Convenções e Eventos:geo:-23.471856,-47.402902
END:VEVENT
BEGIN:VTIMEZONE
TZID:America/Sao_Paulo
X-LIC-LOCATION:America/Sao_Paulo
BEGIN:STANDARD
DTSTART:20230907T100000
TZOFFSETFROM:-0300
TZOFFSETTO:-0300
TZNAME:-03
END:STANDARD
END:VTIMEZONE
END:VCALENDAR