BEGIN:VCALENDAR
VERSION:2.0
PRODID:-//wp-events-plugin.com//7.2.3.1//EN
TZID:America/Sao_Paulo
X-WR-TIMEZONE:America/Sao_Paulo
BEGIN:VEVENT
UID:16@anderuvius.com
DTSTART;TZID=America/Sao_Paulo:20240223T210000
DTEND;TZID=America/Sao_Paulo:20240224T030000
DTSTAMP:20240129T132557Z
URL:https://anderuvius.com/events/anderuvius-estreia-no-feat-rock-1/
SUMMARY:Anderuvius estréia no Feat Rock #1
DESCRIPTION:Anderuvius estréia no Feat Rock #1!\n\nPrepare-se para uma noi
 te de som pesado em Sorocaba! A Feat Hub chega pela primeira vez à cidade
  com um conceito inovador em eventos e entretenimento. Estamos aqui para p
 roporcionar a você\, público apaixonado\, uma experiência única de agi
 tar ao som das suas músicas favoritas. Cantar junto e se divertir tornam-
 se ingredientes essenciais dessa noite que busca não apenas entreteniment
 o\, mas uma conexão verdadeira com a essência do rock.\n\nNo dia 23 de f
 evereiro\, o palco do Villa Plaza Hall será incendiado pela energia vibra
 nte das bandas Phantom of the Beast - Iron Maiden Cover Brasil e Unforgive
 n - Metallica Cover\, prometendo uma noite memorável. A abertura da noite
  será realizada pela Anderuvius\, banda de Heavy Metal de Sorocaba!\n\nMa
 is do que simples eventos\, a Feat Hub quer proporcionar a você uma exper
 iência que vai redefinir a maneira de curtir a balada e apoiar o desenvol
 vimento da cena musical. Todas as semanas\, ofereceremos momentos marcante
 s com música de alta qualidade e um ambiente renovado para suas noites.\n
 \nEsta é apenas a primeira nota de uma sinfonia incrível! O Feat Hub ina
 ugura uma série de experiências musicais que trará para Sorocaba. Não 
 perca a chance de fazer parte desse movimento e viver uma noite que ficar
 á gravada na memória.\n\nDetalhes essenciais:\n\n📅 Data: 23 de fevere
 iro de 2024\n📌 Local: Villa Plaza Hall - Avenida São Bernardo do Campo
 \, 395 - Jardim Leocadia\n🕘 Horário: Portas abrem às 21h00\n\nIngress
 o antecipado: R$25\,00\nIngresso na porta: R$35\,00\n\nA quantidade de ing
 ressos é limitada\, então não hesite - garanta o seu agora e faça part
 e deste novo capítulo na cena musical de Sorocaba! Vamos fazer barulho ju
 ntos! 🤘\n\nGARANTA SEU INGRESSO AQUI\n\n
ATTACH;FMTTYPE=image/jpeg:https://anderuvius.com/wp-content/uploads/2024/0
 1/VillaPlaza_20240223.jpeg
CATEGORIES:Show
LOCATION:Villa Plaza\, Av. São Bernardo do Campo\, 395\, Jardim Leocadia\,
  Sorocaba\, SP\, 18085-310\, Brasil
GEO:-23.475476;-47.437053
X-APPLE-STRUCTURED-LOCATION;VALUE=URI;X-ADDRESS=Av. São Bernardo do Campo\
 , 395\, Jardim Leocadia\, Sorocaba\, SP\, 18085-310\, Brasil;X-APPLE-RADIU
 S=100;X-TITLE=Villa Plaza:geo:-23.475476,-47.437053
END:VEVENT
BEGIN:VTIMEZONE
TZID:America/Sao_Paulo
X-LIC-LOCATION:America/Sao_Paulo
BEGIN:STANDARD
DTSTART:20230223T210000
TZOFFSETFROM:-0300
TZOFFSETTO:-0300
TZNAME:-03
END:STANDARD
END:VTIMEZONE
END:VCALENDAR