BEGIN:VCALENDAR
VERSION:2.0
PRODID:-//wp-events-plugin.com//7.2.3.1//EN
TZID:America/Sao_Paulo
X-WR-TIMEZONE:America/Sao_Paulo
BEGIN:VEVENT
UID:18@anderuvius.com
DTSTART;TZID=America/Sao_Paulo:20240914T140000
DTEND;TZID=America/Sao_Paulo:20240914T170000
DTSTAMP:20240912T185330Z
URL:https://anderuvius.com/events/anderuvius-no-rock-nas-veia-nao-perca-a-
 entrevista-exclusiva-neste-sabado/
SUMMARY:Anderuvius no Rock nas Véia! Não perca a entrevista exclusiva nes
 te sábado!
DESCRIPTION:E aí\, fãs do rock?\nTemos uma super novidade para vocês! A 
 banda Anderuvius vai invadir as ondas do rock neste sábado\, dia 14 de se
 tembro\, das 14h às 17h\, no programa Rock nas Véia da Rádio Cultural F
 M Sorocaba!\nO mestre apresentador Lalo Oliveira vai bater um papo exclusi
 vo com a gente sobre música\, inspirações e muito mais. Durante o progr
 ama\, além das músicas do nosso primeiro álbum\, você também conhecer
 á algumas bandas novas do cenário autoral nacional.\nComo acompanhar:\n\
 n\n 	Rádio: Sintonize a frequência 87\,7 FM.\n 	Online: Acesse o site da
  rádio: www.radioculturalfmsorocaba.com\n\nNão perca essa oportunidade d
 e ficar ainda mais perto da gente!
ATTACH;FMTTYPE=image/jpeg:https://anderuvius.com/wp-content/uploads/2024/0
 9/rocknasveia.jpg
CATEGORIES:Streaming
LOCATION:https://radioculturalfmsorocaba.com.br/
END:VEVENT
BEGIN:VTIMEZONE
TZID:America/Sao_Paulo
X-LIC-LOCATION:America/Sao_Paulo
BEGIN:STANDARD
DTSTART:20230915T140000
TZOFFSETFROM:-0300
TZOFFSETTO:-0300
TZNAME:-03
END:STANDARD
END:VTIMEZONE
END:VCALENDAR