BEGIN:VCALENDAR
VERSION:2.0
PRODID:-//wp-events-plugin.com//7.2.3.1//EN
TZID:America/Sao_Paulo
X-WR-TIMEZONE:America/Sao_Paulo
BEGIN:VEVENT
UID:19@anderuvius.com
DTSTART;TZID=America/Sao_Paulo:20250529T190000
DTEND;TZID=America/Sao_Paulo:20250529T220000
DTSTAMP:20250517T194039Z
URL:https://anderuvius.com/events/documentario-a-historia-do-rock-em-soroc
 aba-nova-geracao/
SUMMARY:Documentário - A História do Rock em Sorocaba Nova Geração
DESCRIPTION:Para quem perdeu a exibição de estreia no cinema do Sorocaba 
 Shopping\, aí esta mais uma chance de ver e rever esse documentário que 
 conta a história do Rock em Sorocaba.\nANOTA NA AGENDA E NÃO PERCA 😉
 🤘👍\n\nA História do Rock em Sorocaba Nova Geração:\n\nNova aprese
 ntação dia 29/05 – Quinta Feira - 19hrs – Entrada Solidária - um qu
 ilo de alimento não perecível - CineSmetal \nRua Julio Hanser\, 140 - Jd
  Faculdade\n\nNesse documentário é contada a história das bandas formad
 as à partir de 2012 em Sorocaba\, trazendo uma reflexão sobre o Rock ent
 re gerações\, e mostrar as mudanças que ocorreram durante anos: As form
 as de consumir música\, de se comunicar com seu público\, projetos que i
 ncitam novas bandas\, a força das mulheres no rock e locais que abrem esp
 aço para bandas autorais.\n\nNo primeiro documentário finalizado em 2011
  (disponível no YouTube)\, foi feito um levantamento de várias bandas em
  Sorocaba desde os anos 60 até a data em questão.\nE dando continuidade 
 a essa história o principal objetivo do novo projeto foi mostrar a força
  mantida por esse legado que continua sendo levado de geração para gera
 ção\, e que manterá não só o Rock vivo\, mas também o espírito e a 
 força\, que sempre foi uma marca desse movimento musical.\n\nDireção e 
 Edição: Cleiner Micceno\nProdução Executiva : Mambo Produções\nProdu
 ção Geral e Iluminação: Angeles Paredes Toral\nDireção de Fotografia
 : Francisco Lorena Stol\nTécnico de Áudio: Maurício Nogueira\nMaquiador
 a: Karina Zapata\nTécnico de Animação: Clayton Roza\n\nSaiba mais
ATTACH;FMTTYPE=image/jpeg:https://anderuvius.com/wp-content/uploads/2025/0
 5/HistoriaDoRockEmSorocabaCineSmetal.jpeg
CATEGORIES:Documentário
LOCATION:CineSmetal - Sindicato dos Metalúrgicos\, Rua Julio Hanser\, 140 
 - Jd Faculdade\, Sorocaba\, São Paulo\, 18030-320\, Brasil
GEO:-23.507181;-47.454253
X-APPLE-STRUCTURED-LOCATION;VALUE=URI;X-ADDRESS=Rua Julio Hanser\, 140 - Jd
  Faculdade\, Sorocaba\, São Paulo\, 18030-320\, Brasil;X-APPLE-RADIUS=100
 ;X-TITLE=CineSmetal - Sindicato dos Metalúrgicos:geo:-23.507181,-47.45425
 3
END:VEVENT
BEGIN:VTIMEZONE
TZID:America/Sao_Paulo
X-LIC-LOCATION:America/Sao_Paulo
BEGIN:STANDARD
DTSTART:20240529T190000
TZOFFSETFROM:-0300
TZOFFSETTO:-0300
TZNAME:-03
END:STANDARD
END:VTIMEZONE
END:VCALENDAR