BEGIN:VCALENDAR
VERSION:2.0
PRODID:-//wp-events-plugin.com//7.2.3.1//EN
TZID:America/Sao_Paulo
X-WR-TIMEZONE:America/Sao_Paulo
BEGIN:VEVENT
UID:21@anderuvius.com
DTSTART;TZID=America/Sao_Paulo:20250824T150000
DTEND;TZID=America/Sao_Paulo:20250824T220000
DTSTAMP:20250822T191040Z
URL:https://anderuvius.com/events/festival-palco-livre-em-votorantim/
SUMMARY:Festival Palco Livre em Votorantim
DESCRIPTION:O festival de rock Palco Livre terá as presenças de quatro ba
 ndas independentes e undergrounds neste domingo (24)\, das 15h às 22h\, n
 a praça Zeca Padeiro. O tradicional evento\, existente há mais de 10 ano
 s\, é realizado e organizado pela Prefeitura de Votorantim\, por meio da 
 Secretaria de Cultura e Turismo (Secult) sob a coordenação de Andi Rocke
 r.\nA primeira banda a se apresentar será a Anderuvius. Na sequência\, s
 ubirão ao palco Prerigo\, Hammathaz e\, para fechar a noite\, os integran
 tes da Retaliação.\nTodos os shows são gratuitos\, abertos ao público 
 de todas as idades. O festival tornou-se tradicional e uma referência no 
 cenário do rock na região por reunir bandas independentes.\nA praça Zec
 a Padeiro fica na avenida 31 de Março. O espaço está localizado ao lado
  do prédio da Prefeitura de Votorantim.\nFestival de rock Palco Livre\nDa
 ta: 24 de agosto\, domingo\nHorário: 15h às 22h\nLocal: Praça Zeca Pade
 iro\, na avenida 31 de Março\, s/nº\, centro\, ao lado da Prefeitura de 
 Votorantim\nClassificação: livre\nEntrada: gratuita
ATTACH;FMTTYPE=image/jpeg:https://anderuvius.com/wp-content/uploads/2025/0
 8/Palco_Livre_20250824.jpeg
CATEGORIES:Show
LOCATION:Praça Zeca Padeiro\, Protestantes\, Votorantim\, SP\, 18110-013\,
  Brasil
GEO:-23.54166;-47.44519
X-APPLE-STRUCTURED-LOCATION;VALUE=URI;X-ADDRESS=Protestantes\, Votorantim\,
  SP\, 18110-013\, Brasil;X-APPLE-RADIUS=100;X-TITLE=Praça Zeca Padeiro:ge
 o:-23.54166,-47.44519
END:VEVENT
BEGIN:VTIMEZONE
TZID:America/Sao_Paulo
X-LIC-LOCATION:America/Sao_Paulo
BEGIN:STANDARD
DTSTART:20240824T150000
TZOFFSETFROM:-0300
TZOFFSETTO:-0300
TZNAME:-03
END:STANDARD
END:VTIMEZONE
END:VCALENDAR