BEGIN:VCALENDAR
VERSION:2.0
PRODID:-//wp-events-plugin.com//7.2.3.1//EN
TZID:America/Sao_Paulo
X-WR-TIMEZONE:America/Sao_Paulo
BEGIN:VEVENT
UID:22@anderuvius.com
DTSTART;TZID=America/Sao_Paulo:20250921T150000
DTEND;TZID=America/Sao_Paulo:20250921T220000
DTSTAMP:20250914T145133Z
URL:https://anderuvius.com/events/metal-forces-sorocaba-festival-de-heavy-
 metal-gratuito-para-ressuscitar-a-cena-local/
SUMMARY:Metal Forces Sorocaba: Festival de Heavy Metal Gratuito para Ressus
 citar a Cena Local!
DESCRIPTION:Atenção\, headbangers de Sorocaba e região! Preparem seus co
 letes e suas energias\, porque o chão do Calico Café Bar vai tremer! Che
 gou o Metal Forces\, um novo projeto criado com um único e poderoso objet
 ivo: resgatar e fortalecer a cena de heavy metal na nossa cidade\, dando p
 alco e voz para as incríveis bandas daqui.\n\nE para a nossa edição de 
 estreia\, preparamos um verdadeiro massacre sonoro com o melhor do metal s
 orocabano. É a sua chance de apoiar o som local\, reencontrar os amigos e
 \, claro\, banguear até não aguentar mais!\n\n&nbsp\;\nO que te espera n
 esse evento histórico?\n&nbsp\;\n\nEste não é apenas mais um show\, é 
 o marco zero de um movimento para unir a comunidade metal de Sorocaba. Ven
 ha fazer parte dessa história e curtir uma tarde inteira dedicada ao som 
 pesado\, com atrações imperdíveis:\n\n🤘 Bandas Que Vão Destruir o P
 alco: Prepare-se para uma avalanche de riffs e peso com três gigantes da 
 cena local\, representando diferentes vertentes do metal:\n\n 	BRAVE\n 	AN
 DERUVIUS\n 	STORMRIDERS\n 	E mais: Contaremos com a participação especia
 l de músicos convidados para tornar essa celebração ainda mais única!\
 n\n🎧 Discotecagem de Primeira: Nos intervalos e na abertura\, quem coma
 nda o som é o DJ Vinnie Mariano\, trazendo um set matador recheado de cl
 ássicos e novidades do Hard Rock e Heavy Metal para não deixar ninguém 
 parado.\n\n✒️ Flash Tattoo no Local: Quer eternizar esse dia na pele? 
 O mestre Will Cordeiro Old School estará presente com seus flashes exclus
 ivos. Uma oportunidade perfeita para fazer aquela tattoo que você sempre 
 quis com um preço especial.\n\n&nbsp\;\nInformações Essenciais (Serviç
 o Completo):\n&nbsp\;\n\n 	O quê? Metal Forces - Edição de Estreia\n 	Q
 uando? Dia 21 de setembro (sábado)\n 	A que horas? A partir das 15h\n 	On
 de? No Calico Café Bar\n 	Endereço: Rua Eulália Silva\, 69 - Jardim Fac
 uldade\, Sorocaba/SP\n 	Quanto? ENTRADA 100% GRATUITA! Isso mesmo\, você 
 não paga nada para entrar.\n\nEste evento épico de heavy metal em Soroca
 ba é uma apresentação do Calico Café Bar\, com o apoio de Studio Mozar
 t\, Olliver Luthieria\, Maresia Lounge Studio\, Transa Som\, e Roqueirinha
  de Boutique.\n\nChame todo o seu bando\, compartilhe este post e venha ce
 lebrar a força do metal sorocabano. Vamos mostrar que a nossa cena está 
 mais viva e barulhenta do que nunca! Nos vemos lá!
ATTACH;FMTTYPE=image/jpeg:https://anderuvius.com/wp-content/uploads/2025/0
 8/metal_forces.jpeg
CATEGORIES:Show
LOCATION:Calico Café Bar\, R. Eulália Silva\, 69 - Jardim Faculdade\, Sor
 ocaba\, SP\, 18030-230\, Brasil
GEO:-23.511447;-47.462467
X-APPLE-STRUCTURED-LOCATION;VALUE=URI;X-ADDRESS=R. Eulália Silva\, 69 - Ja
 rdim Faculdade\, Sorocaba\, SP\, 18030-230\, Brasil;X-APPLE-RADIUS=100;X-T
 ITLE=Calico Café Bar:geo:-23.511447,-47.462467
END:VEVENT
BEGIN:VTIMEZONE
TZID:America/Sao_Paulo
X-LIC-LOCATION:America/Sao_Paulo
BEGIN:STANDARD
DTSTART:20240921T150000
TZOFFSETFROM:-0300
TZOFFSETTO:-0300
TZNAME:-03
END:STANDARD
END:VTIMEZONE
END:VCALENDAR