BEGIN:VCALENDAR
VERSION:2.0
PRODID:-//wp-events-plugin.com//7.2.3.1//EN
TZID:America/Sao_Paulo
X-WR-TIMEZONE:America/Sao_Paulo
BEGIN:VEVENT
UID:14@anderuvius.com
DTSTART;TZID=America/Sao_Paulo:20240112T193000
DTEND;TZID=America/Sao_Paulo:20240112T220000
DTSTAMP:20240106T232054Z
URL:https://anderuvius.com/events/roadie-crew-online-festival-melhores-do-
 ano/
SUMMARY:Roadie Crew Online Festival - Melhores do Ano
DESCRIPTION:É com enorme alegria que informamos que a Anderuvius foi selec
 ionada entre "Os Melhores de 2023" da Roadie Crew!\nConvidamos todos a ass
 istirem a edição especial #46 do festival no dia 12 de janeiro.\n\nSerá
  uma transmissão ao vivo exclusiva pelo canal da Roadie Crew no Youtube.\
 n\nO evento foi feito sob a curadoria do Som do Darma e conta com as segu
 intes bandas:\n\n 	Warshipper\n 	Rhegia\n 	Living Metal\n 	The Giant Void\
 n 	Attractha\n 	Pesta\n 	Loss\n 	Tchandala\n 	The Heathen Scythe\n 	Infern
 al Course\n 	Guerreiros Headbangers\n 	Armadilha\n 	Amazing\n 	Foxx Salema
 \n 	Prophetic Age\n 	Hammathaz\n 	Sub Rosa\n 	Anarchitects\n 	Benjamin Sag
 a\n 	Dinnamarque\n 	Ossos Cruzados\n 	Just Heroes\n 	ChromeSkull\n 	Anderu
 vius\n 	Lightstrike\n 	Aske\n 	Darkship\n 	Viscerall\n 	Apoteom\n 	Bogotah
 \n\nA Anderuvius participará do evento com o clipe da música Merchants o
 f Madness\, que estreou no Youtube no último dia 29 de setembro.
ATTACH;FMTTYPE=image/jpeg:https://anderuvius.com/wp-content/uploads/2023/1
 2/roadiecrew_jan2024.jpeg
CATEGORIES:Streaming
LOCATION:https://www.youtube.com/@roadiecrewmagtv
END:VEVENT
BEGIN:VTIMEZONE
TZID:America/Sao_Paulo
X-LIC-LOCATION:America/Sao_Paulo
BEGIN:STANDARD
DTSTART:20230112T193000
TZOFFSETFROM:-0300
TZOFFSETTO:-0300
TZNAME:-03
END:STANDARD
END:VTIMEZONE
END:VCALENDAR