BEGIN:VCALENDAR
VERSION:2.0
PRODID:-//wp-events-plugin.com//7.2.3.1//EN
TZID:America/Sao_Paulo
X-WR-TIMEZONE:America/Sao_Paulo
BEGIN:VEVENT
UID:13@anderuvius.com
DTSTART;TZID=America/Sao_Paulo:20231013T193000
DTEND;TZID=America/Sao_Paulo:20231013T210000
DTSTAMP:20231009T094944Z
URL:https://anderuvius.com/events/roadie-crew-online-festival/
SUMMARY:Roadie Crew Online Festival
DESCRIPTION:Nesta sexta-feira\, dia 13 de Outubro às 19h30\, acontece a ed
 ição #43 do Roadie Crew Online Festival.\n\nSerá uma transmissão ao vi
 vo exclusiva pelo canal da Roadie Crew no Youtube.\n\nO evento foi feito s
 ob a curadoria do Som do Darma e conta com as seguintes bandas:\n\n 	Mare
 nna\n 	Living Metal\n 	Guerreiros Headbangers\n 	The Ogre\n 	Outono\n 	Sea
 walker\n 	Just Heroes\n 	Canábicos\n 	Old Lands\n 	Dognerve\n 	Anderuvius
 \n 	Prestto\n 	Outland Tormenta\n 	White Dragon\n 	Project\n 	Lamarquez.\n
 \nA Anderuvius participará do evento com o clipe da música Merchants of 
 Madness\, que estreou no Youtube no último dia 29 de setembro.
ATTACH;FMTTYPE=image/jpeg:https://anderuvius.com/wp-content/uploads/2023/1
 0/roadiecrew.jpeg
CATEGORIES:Streaming
LOCATION:https://www.youtube.com/@roadiecrewmagtv
END:VEVENT
BEGIN:VTIMEZONE
TZID:America/Sao_Paulo
X-LIC-LOCATION:America/Sao_Paulo
BEGIN:STANDARD
DTSTART:20221013T193000
TZOFFSETFROM:-0300
TZOFFSETTO:-0300
TZNAME:-03
END:STANDARD
END:VTIMEZONE
END:VCALENDAR