BEGIN:VCALENDAR
VERSION:2.0
PRODID:-//wp-events-plugin.com//7.2.3.1//EN
TZID:America/Sao_Paulo
X-WR-TIMEZONE:America/Sao_Paulo
BEGIN:VEVENT
UID:11@anderuvius.com
DTSTART;TZID=America/Sao_Paulo:20231028T033000
DTEND;TZID=America/Sao_Paulo:20231028T100000
DTSTAMP:20231009T100135Z
URL:https://anderuvius.com/events/rock-of-ages-live-fest-2023/
SUMMARY:Rock of Ages Live Fest 2023
DESCRIPTION:Dia 28 de Outubro os membros da Anderuvius estarão presentes n
 o Rock of Ages Live Fest 2023!\n\nÉ dia de vestir seu jeans surrado\, a c
 amiseta de sua banda favorita\, seu colete cheio de botons! É dia de junt
 ar todas as tribos do Rock no mesmo lugar\, dia de celebrar aquilo que nos
  une: a arte da música\, a essência do rock\, o poder da música pesada!
 \n\nConvidamos todos a estarem conosco pontualmente às 15h30 na Praça Ze
 ca Padeiro\, em Votorantim - SP\, para comemorar a décima edição desse 
 evento que se tornou um marco na agenda da música na região.\n\nSerão m
 ais de 70 músicos que desfilarão no palco em mais de 6 horas de música 
 ao vivo! Muitas novidades\, uma grande estrutura de som e luz\, além de m
 uita informação com nossos embaixadores da música\, sempre trazendo mui
 tas histórias das bandas e da história do Rock. E claro\, como sempre\, 
 muita interação e brindes! Afinal o evento é de todos nós\, amantes do
  rock\, sempre impondo Resistência a todos os modismos\, mantendo a chama
  da música orgânica e criativa sempre acessa!\n\nMais uma vez com a Real
 ização da Secretaria de Cultura\, Lazer e Turismo de Votorantim o ROA pe
 de passagem para marcar mais um capítulo na sua história! Mais uma vez u
 m evento SOLIDÁRIO\, arrecadando alimento para Assistência Social! Não 
 deixe de trazer 1 litro de leite longa vida para doação!\n\nNão percam 
 por nada! Nos encontramos lá!\n\n
ATTACH;FMTTYPE=image/jpeg:https://anderuvius.com/wp-content/uploads/2023/0
 9/roa_euvou.jpg
CATEGORIES:Show
LOCATION:Praça Zeca Padeiro\, Protestantes\, Votorantim\, SP\, 18110-013\,
  Brasil
GEO:-23.54166;-47.44519
X-APPLE-STRUCTURED-LOCATION;VALUE=URI;X-ADDRESS=Protestantes\, Votorantim\,
  SP\, 18110-013\, Brasil;X-APPLE-RADIUS=100;X-TITLE=Praça Zeca Padeiro:ge
 o:-23.54166,-47.44519
END:VEVENT
BEGIN:VTIMEZONE
TZID:America/Sao_Paulo
X-LIC-LOCATION:America/Sao_Paulo
BEGIN:STANDARD
DTSTART:20221028T033000
TZOFFSETFROM:-0300
TZOFFSETTO:-0300
TZNAME:-03
END:STANDARD
END:VTIMEZONE
END:VCALENDAR