BEGIN:VCALENDAR
VERSION:2.0
PRODID:-//wp-events-plugin.com//7.2.3.1//EN
TZID:America/Sao_Paulo
X-WR-TIMEZONE:America/Sao_Paulo
BEGIN:VEVENT
UID:20@anderuvius.com
DTSTART;TZID=America/Sao_Paulo:20250628T190000
DTEND;TZID=America/Sao_Paulo:20250628T235900
DTSTAMP:20250622T234856Z
URL:https://anderuvius.com/events/the-devils-on-stage/
SUMMARY:The Devil's On Stage
DESCRIPTION:Dia 28/06\, Sábado\, à partir das 19H vai rolar o THE DEVIL'S
  ON STAGE\, show com as bandas @anderuvius e @everlastdreamofficial no T
 HE DEVIL'S PUB.\n\nVenham celebrar com a gente esse rolê incrível\, ent
 ão\, SAVE THE DATE e chama a galera pra curtir com a gente\, vai ser pesa
 díssimo!!!\n\nO THE DEVIL'S PUB abre a partir das 14H aos Sábados\, com 
 uma discotecagem Heavy Metal rolando até o fim e com muito Chopp Artesana
 l\, Cervejas\, Caipirinhas\, Drinks diversos\, Hamburgers e Porções!\n\n
 Venha conhecer\, venha curtir\, venha comemorar com a gente esse rolê imp
 erdível!\n\nA Entrada é Gratuita pra vocês curtirem a vontade no PUB ma
 is autêntico e underground da cidade!!!\n\n@the.devils.pub\nR. João Mend
 es Gomes\, 31\nSorocaba/SP
ATTACH;FMTTYPE=image/jpeg:https://anderuvius.com/wp-content/uploads/2025/0
 6/devilspub.webp
CATEGORIES:Show
LOCATION:The Devil's Pub\, R. João Mendes Gomes\, 31\, Sorocaba\, São Pau
 lo\, 18081-400\, Brasil
GEO:-23.470048;-47.442088
X-APPLE-STRUCTURED-LOCATION;VALUE=URI;X-ADDRESS=R. João Mendes Gomes\, 31\
 , Sorocaba\, São Paulo\, 18081-400\, Brasil;X-APPLE-RADIUS=100;X-TITLE=Th
 e Devil's Pub:geo:-23.470048,-47.442088
END:VEVENT
BEGIN:VTIMEZONE
TZID:America/Sao_Paulo
X-LIC-LOCATION:America/Sao_Paulo
BEGIN:STANDARD
DTSTART:20240628T190000
TZOFFSETFROM:-0300
TZOFFSETTO:-0300
TZNAME:-03
END:STANDARD
END:VTIMEZONE
END:VCALENDAR